BEGIN:VCALENDAR
VERSION:2.0
PRODID:-//wp-events-plugin.com//7.2.3.1//EN
BEGIN:VEVENT
UID:2@recdev.org
DTSTART:20251226T084500Z
DTEND:20251227T171500Z
DTSTAMP:20251224T163800Z
URL:https://recdev.org/events/youth-leadership-workshop/
SUMMARY:Youth Leadership Workshop
DESCRIPTION:Join us for our annual health fair featuring free health screen
 ings\, wellness workshops\, nutrition counseling\, and fitness demonstrati
 ons.
LOCATION:Bamenda Cameroon\, BAMENDA\, ADAMAOUA\, WEST\, 
X-APPLE-STRUCTURED-LOCATION;VALUE=URI;X-ADDRESS=BAMENDA\, ADAMAOUA\, WEST\,
  ;X-APPLE-RADIUS=100;X-TITLE=Bamenda Cameroon:geo:0,0
END:VEVENT
END:VCALENDAR