BEGIN:VCALENDAR
VERSION:2.0
PRODID:-//wp-events-plugin.com//7.2.3.1//EN
BEGIN:VEVENT
UID:1@recdev.org
DTSTART:20260111T000000Z
DTEND:20260131T011500Z
DTSTAMP:20251224T151154Z
URL:https://recdev.org/events/annual-health-wellness-fair-2023/
SUMMARY:Annual Health & Wellness Fair 2023
DESCRIPTION:Join us for our annual health fair featuring free health screen
 ings\, wellness workshops\, nutrition counseling
LOCATION:sda\, ds\, dsd\, dds\, s\, dsd\, Afghanistan
X-APPLE-STRUCTURED-LOCATION;VALUE=URI;X-ADDRESS=ds\, dsd\, dds\, s\, dsd\, 
 Afghanistan;X-APPLE-RADIUS=100;X-TITLE=sda:geo:0,0
END:VEVENT
END:VCALENDAR